BEGIN:VCALENDAR
VERSION:2.0
PRODID:-//tangomendocino.com - ECPv6.15.20//NONSGML v1.0//EN
CALSCALE:GREGORIAN
METHOD:PUBLISH
X-WR-CALNAME:tangomendocino.com
X-ORIGINAL-URL:https://dev.tangomendocino.com
X-WR-CALDESC:Events for tangomendocino.com
REFRESH-INTERVAL;VALUE=DURATION:PT1H
X-Robots-Tag:noindex
X-PUBLISHED-TTL:PT1H
BEGIN:VTIMEZONE
TZID:America/Los_Angeles
BEGIN:DAYLIGHT
TZOFFSETFROM:-0800
TZOFFSETTO:-0700
TZNAME:PDT
DTSTART:20250309T100000
END:DAYLIGHT
BEGIN:STANDARD
TZOFFSETFROM:-0700
TZOFFSETTO:-0800
TZNAME:PST
DTSTART:20251102T090000
END:STANDARD
BEGIN:DAYLIGHT
TZOFFSETFROM:-0800
TZOFFSETTO:-0700
TZNAME:PDT
DTSTART:20260308T100000
END:DAYLIGHT
BEGIN:STANDARD
TZOFFSETFROM:-0700
TZOFFSETTO:-0800
TZNAME:PST
DTSTART:20261101T090000
END:STANDARD
BEGIN:DAYLIGHT
TZOFFSETFROM:-0800
TZOFFSETTO:-0700
TZNAME:PDT
DTSTART:20270314T100000
END:DAYLIGHT
BEGIN:STANDARD
TZOFFSETFROM:-0700
TZOFFSETTO:-0800
TZNAME:PST
DTSTART:20271107T090000
END:STANDARD
END:VTIMEZONE
BEGIN:VEVENT
DTSTART;TZID=America/Los_Angeles:20260426T183000
DTEND;TZID=America/Los_Angeles:20260426T210000
DTSTAMP:20260425T203042
CREATED:20260422T202237Z
LAST-MODIFIED:20260426T002029Z
UID:10000562-1777228200-1777237200@dev.tangomendocino.com
SUMMARY:Elk Practica with DJ Gentleman Jack!
DESCRIPTION:Guest DJ!
URL:https://dev.tangomendocino.com/calendar/elk-practica-with-dj-gentleman-jack/
CATEGORIES:Practica
END:VEVENT
BEGIN:VEVENT
DTSTART;TZID=America/Los_Angeles:20260430T183000
DTEND;TZID=America/Los_Angeles:20260430T210000
DTSTAMP:20260425T203042
CREATED:20260421T064021Z
LAST-MODIFIED:20260426T000333Z
UID:10000528-1777573800-1777582800@dev.tangomendocino.com
SUMMARY:Thursday Practica Caspar
DESCRIPTION:Every Thursday. A weekly Practica in Caspar.
URL:https://dev.tangomendocino.com/calendar/thursday-practica-caspar/2026-04-30/
LOCATION:Caspar Community Center\, 5051 Caspar Rd\, Caspar\, CA\, 95420\, United States
CATEGORIES:Practica
END:VEVENT
END:VCALENDAR